BEGIN:VCALENDAR
VERSION:2.0
PRODID:-//kyohatsu//JP
CALSCALE:GREGORIAN
BEGIN:VEVENT
DTSTART;VALUE=DATE:20260609
SUMMARY:司馬遼太郎『街道をゆく』の旅を読み解く（仮）
DESCRIPTION:森山 明 彩流社
UID:9784779130731@kyohatsu.lb-product.com
END:VEVENT
END:VCALENDAR
