BEGIN:VCALENDAR
VERSION:2.0
PRODID:-//kyohatsu//JP
CALSCALE:GREGORIAN
BEGIN:VEVENT
DTSTART;VALUE=DATE:20260512
SUMMARY:植物でめぐるハワイの神話
DESCRIPTION:森出　じゅん イカロス出版
UID:9784802217439@kyohatsu.lb-product.com
END:VEVENT
END:VCALENDAR
