BEGIN:VCALENDAR
VERSION:2.0
PRODID:-//kyohatsu//JP
CALSCALE:GREGORIAN
BEGIN:VEVENT
DTSTART;VALUE=DATE:20260529
SUMMARY:ないしょの予習 （　9）
DESCRIPTION:森井 暁正 日本文芸社
UID:9784537174007@kyohatsu.lb-product.com
END:VEVENT
END:VCALENDAR
