BEGIN:VCALENDAR
VERSION:2.0
PRODID:-//kyohatsu//JP
CALSCALE:GREGORIAN
BEGIN:VEVENT
DTSTART;VALUE=DATE:20260612
SUMMARY:森博嗣の道具箱　The　Spirits　of　the　Tools
DESCRIPTION:森 博嗣 講談社
UID:9784065431771@kyohatsu.lb-product.com
END:VEVENT
END:VCALENDAR
