BEGIN:VCALENDAR
VERSION:2.0
PRODID:-//kyohatsu//JP
CALSCALE:GREGORIAN
BEGIN:VEVENT
DTSTART;VALUE=DATE:20260512
SUMMARY:願いを実現させる書
DESCRIPTION:梶田文宗 美術の杜出版
UID:9784434378522@kyohatsu.lb-product.com
END:VEVENT
END:VCALENDAR
