BEGIN:VCALENDAR
VERSION:2.0
PRODID:-//kyohatsu//JP
CALSCALE:GREGORIAN
BEGIN:VEVENT
DTSTART;VALUE=DATE:20260715
SUMMARY:歴史の本棚【毎日文庫】
DESCRIPTION:梯久美子 毎日新聞出版
UID:9784620211053@kyohatsu.lb-product.com
END:VEVENT
BEGIN:VEVENT
DTSTART;VALUE=DATE:20260723
SUMMARY:書くこと、生きること
DESCRIPTION:梯久美子 毎日新聞出版
UID:9784620328706@kyohatsu.lb-product.com
END:VEVENT
END:VCALENDAR
