BEGIN:VCALENDAR
VERSION:2.0
PRODID:-//kyohatsu//JP
CALSCALE:GREGORIAN
BEGIN:VEVENT
DTSTART;VALUE=DATE:20260619
SUMMARY:好きって言ったのお前だろうが！ 4
DESCRIPTION:梅田 みそ リブレ
UID:9784799778227@kyohatsu.lb-product.com
END:VEVENT
END:VCALENDAR
