BEGIN:VCALENDAR
VERSION:2.0
PRODID:-//kyohatsu//JP
CALSCALE:GREGORIAN
BEGIN:VEVENT
DTSTART;VALUE=DATE:20260603
SUMMARY:40歳をすぎたあなたが結婚をつかむための17か条
DESCRIPTION:桜野かほり 方丈社
UID:9784910818399@kyohatsu.lb-product.com
END:VEVENT
END:VCALENDAR
