BEGIN:VCALENDAR
VERSION:2.0
PRODID:-//kyohatsu//JP
CALSCALE:GREGORIAN
BEGIN:VEVENT
DTSTART;VALUE=DATE:20260501
SUMMARY:白きアリアス
DESCRIPTION:桐原夕一 文芸社
UID:9784286275734@kyohatsu.lb-product.com
END:VEVENT
END:VCALENDAR
