BEGIN:VCALENDAR
VERSION:2.0
PRODID:-//kyohatsu//JP
CALSCALE:GREGORIAN
BEGIN:VEVENT
DTSTART;VALUE=DATE:20260624
SUMMARY:くまのがっこう　ジャッキーといっしょ どんな「わたし」でも大丈夫になれる39のお守りことば
DESCRIPTION:根本　裕幸 KADOKAWA
UID:9784048119719@kyohatsu.lb-product.com
END:VEVENT
END:VCALENDAR
