BEGIN:VCALENDAR
VERSION:2.0
PRODID:-//kyohatsu//JP
CALSCALE:GREGORIAN
BEGIN:VEVENT
DTSTART;VALUE=DATE:20260618
SUMMARY:怨み屋本舗DIABLO 15
DESCRIPTION:栗原 正尚 集英社
UID:9784088938899@kyohatsu.lb-product.com
END:VEVENT
END:VCALENDAR
