BEGIN:VCALENDAR
VERSION:2.0
PRODID:-//kyohatsu//JP
CALSCALE:GREGORIAN
BEGIN:VEVENT
DTSTART;VALUE=DATE:20260625
SUMMARY:雨、時々こんぺいとう（1）
DESCRIPTION:柴野　日向 KADOKAWA
UID:9784049169539@kyohatsu.lb-product.com
END:VEVENT
END:VCALENDAR
