BEGIN:VCALENDAR
VERSION:2.0
PRODID:-//kyohatsu//JP
CALSCALE:GREGORIAN
BEGIN:VEVENT
DTSTART;VALUE=DATE:20260525
SUMMARY:顔だけ俳優、育成中につき
DESCRIPTION:柳ゆと 徳間書店
UID:9784199610820@kyohatsu.lb-product.com
END:VEVENT
END:VCALENDAR
