BEGIN:VCALENDAR
VERSION:2.0
PRODID:-//kyohatsu//JP
CALSCALE:GREGORIAN
BEGIN:VEVENT
DTSTART;VALUE=DATE:20260626
SUMMARY:新米姉妹のふたりごはん　12
DESCRIPTION:柊　ゆたか KADOKAWA
UID:9784049522907@kyohatsu.lb-product.com
END:VEVENT
END:VCALENDAR
