BEGIN:VCALENDAR
VERSION:2.0
PRODID:-//kyohatsu//JP
CALSCALE:GREGORIAN
BEGIN:VEVENT
DTSTART;VALUE=DATE:20260601
SUMMARY:眠れないほどおもしろい葉隠
DESCRIPTION:板野　博行 三笠書房
UID:9784837931584@kyohatsu.lb-product.com
END:VEVENT
END:VCALENDAR
