BEGIN:VCALENDAR
VERSION:2.0
PRODID:-//kyohatsu//JP
CALSCALE:GREGORIAN
BEGIN:VEVENT
DTSTART;VALUE=DATE:20260605
SUMMARY:彼岸島　48日後…（54）
DESCRIPTION:松本 光司 講談社
UID:9784065438268@kyohatsu.lb-product.com
END:VEVENT
END:VCALENDAR
