BEGIN:VCALENDAR
VERSION:2.0
PRODID:-//kyohatsu//JP
CALSCALE:GREGORIAN
BEGIN:VEVENT
DTSTART;VALUE=DATE:20260701
SUMMARY:GOLDEN☆BEST 松岡英明〜シングルズ 1986-1994〜
DESCRIPTION:松岡英明 (株)ソニー・ミュージックダイレクト
UID:4547366820072@kyohatsu.lb-product.com
END:VEVENT
END:VCALENDAR
