BEGIN:VCALENDAR
VERSION:2.0
PRODID:-//kyohatsu//JP
CALSCALE:GREGORIAN
BEGIN:VEVENT
DTSTART;VALUE=DATE:20260521
SUMMARY:異界探訪記 恐い旅
DESCRIPTION:松原タニシ 二見書房
UID:9784576260259@kyohatsu.lb-product.com
END:VEVENT
END:VCALENDAR
