BEGIN:VCALENDAR
VERSION:2.0
PRODID:-//kyohatsu//JP
CALSCALE:GREGORIAN
BEGIN:VEVENT
DTSTART;VALUE=DATE:20260528
SUMMARY:二人の距離／松下ひめの　柚月彩那
DESCRIPTION:松下ひめの　柚月彩那 
UID:4570066062282@kyohatsu.lb-product.com
END:VEVENT
END:VCALENDAR
