BEGIN:VCALENDAR
VERSION:2.0
PRODID:-//kyohatsu//JP
CALSCALE:GREGORIAN
BEGIN:VEVENT
DTSTART;VALUE=DATE:20260602
SUMMARY:ギュンター・グラス「言われねばならぬこと」
DESCRIPTION:杵渕 博樹 あいんしゅりっと
UID:9784911290088@kyohatsu.lb-product.com
END:VEVENT
END:VCALENDAR
