BEGIN:VCALENDAR
VERSION:2.0
PRODID:-//kyohatsu//JP
CALSCALE:GREGORIAN
BEGIN:VEVENT
DTSTART;VALUE=DATE:20260529
SUMMARY:バニーナイト・トリートメント（2）
DESCRIPTION:東雲 小学館
UID:9784098640065@kyohatsu.lb-product.com
END:VEVENT
END:VCALENDAR
