BEGIN:VCALENDAR
VERSION:2.0
PRODID:-//kyohatsu//JP
CALSCALE:GREGORIAN
BEGIN:VEVENT
DTSTART;VALUE=DATE:20260702
SUMMARY:ミドル・エイジ・ビギンズ
DESCRIPTION:東畑　開人 KADOKAWA
UID:9784041163368@kyohatsu.lb-product.com
END:VEVENT
END:VCALENDAR
