BEGIN:VCALENDAR
VERSION:2.0
PRODID:-//kyohatsu//JP
CALSCALE:GREGORIAN
BEGIN:VEVENT
DTSTART;VALUE=DATE:20260605
SUMMARY:放課後はミステリーとともに 新装版
DESCRIPTION:東川　篤哉 実業之日本社
UID:9784408560199@kyohatsu.lb-product.com
END:VEVENT
END:VCALENDAR
