BEGIN:VCALENDAR
VERSION:2.0
PRODID:-//kyohatsu//JP
CALSCALE:GREGORIAN
BEGIN:VEVENT
DTSTART;VALUE=DATE:20260630
SUMMARY:こわいハコ（1）
DESCRIPTION:東　亮太 KADOKAWA
UID:9784045000829@kyohatsu.lb-product.com
END:VEVENT
END:VCALENDAR
