BEGIN:VCALENDAR
VERSION:2.0
PRODID:-//kyohatsu//JP
CALSCALE:GREGORIAN
BEGIN:VEVENT
DTSTART;VALUE=DATE:20260528
SUMMARY:落ちこぼれ魔法少女の恋愛下剋上2
DESCRIPTION:村田 天 新潮社
UID:9784101803333@kyohatsu.lb-product.com
END:VEVENT
END:VCALENDAR
