BEGIN:VCALENDAR
VERSION:2.0
PRODID:-//kyohatsu//JP
CALSCALE:GREGORIAN
BEGIN:VEVENT
DTSTART;VALUE=DATE:20260515
SUMMARY:令和になっても気がつけばチェーン店ばかりでメシを食べている
DESCRIPTION:村瀬 秀信 講談社
UID:9784065435458@kyohatsu.lb-product.com
END:VEVENT
END:VCALENDAR
