BEGIN:VCALENDAR
VERSION:2.0
PRODID:-//kyohatsu//JP
CALSCALE:GREGORIAN
BEGIN:VEVENT
DTSTART;VALUE=DATE:20260617
SUMMARY:夜汽車
DESCRIPTION:村木弾 日本コロムビア(株)
UID:4549767373065@kyohatsu.lb-product.com
END:VEVENT
END:VCALENDAR
