BEGIN:VCALENDAR
VERSION:2.0
PRODID:-//kyohatsu//JP
CALSCALE:GREGORIAN
BEGIN:VEVENT
DTSTART;VALUE=DATE:20260511
SUMMARY:増補　新橋パラダイス
DESCRIPTION:村岡 俊也 筑摩書房
UID:9784480440990@kyohatsu.lb-product.com
END:VEVENT
END:VCALENDAR
