BEGIN:VCALENDAR
VERSION:2.0
PRODID:-//kyohatsu//JP
CALSCALE:GREGORIAN
BEGIN:VEVENT
DTSTART;VALUE=DATE:20260616
SUMMARY:村井さんちのお取り寄せ
DESCRIPTION:村井 理子 ワニブックス
UID:9784847076572@kyohatsu.lb-product.com
END:VEVENT
END:VCALENDAR
