BEGIN:VCALENDAR
VERSION:2.0
PRODID:-//kyohatsu//JP
CALSCALE:GREGORIAN
BEGIN:VEVENT
DTSTART;VALUE=DATE:20260622
SUMMARY:ゼロかヒャクかの五十嵐くん2
DESCRIPTION:杏堂　まい KADOKAWA
UID:9784049522600@kyohatsu.lb-product.com
END:VEVENT
END:VCALENDAR
