BEGIN:VCALENDAR
VERSION:2.0
PRODID:-//kyohatsu//JP
CALSCALE:GREGORIAN
BEGIN:VEVENT
DTSTART;VALUE=DATE:20260624
SUMMARY:ゴールデン☆ベスト 杉浦幸
DESCRIPTION:杉浦幸 (株)ワーナーミュージック・ジャパン
UID:4943674443246@kyohatsu.lb-product.com
END:VEVENT
END:VCALENDAR
