BEGIN:VCALENDAR
VERSION:2.0
PRODID:-//kyohatsu//JP
CALSCALE:GREGORIAN
BEGIN:VEVENT
DTSTART;VALUE=DATE:20260601
SUMMARY:同級生に迫られてます！
DESCRIPTION:杉原　マチコ KADOKAWA
UID:9784041173015@kyohatsu.lb-product.com
END:VEVENT
END:VCALENDAR
