BEGIN:VCALENDAR
VERSION:2.0
PRODID:-//kyohatsu//JP
CALSCALE:GREGORIAN
BEGIN:VEVENT
DTSTART;VALUE=DATE:20260507
SUMMARY:こわい日本史
DESCRIPTION:本郷和人 扶桑社
UID:9784594102548@kyohatsu.lb-product.com
END:VEVENT
END:VCALENDAR
