BEGIN:VCALENDAR
VERSION:2.0
PRODID:-//kyohatsu//JP
CALSCALE:GREGORIAN
BEGIN:VEVENT
DTSTART;VALUE=DATE:20260627
SUMMARY:生命の謎を解き明かす　〜本庶佑「私の履歴書」〜
DESCRIPTION:本庶佑 日経BP
UID:9784296125128@kyohatsu.lb-product.com
END:VEVENT
END:VCALENDAR
