BEGIN:VCALENDAR
VERSION:2.0
PRODID:-//kyohatsu//JP
CALSCALE:GREGORIAN
BEGIN:VEVENT
DTSTART;VALUE=DATE:20260525
SUMMARY:noteで稼ぐ！
DESCRIPTION:末吉宏臣 きずな出版
UID:9784866633343@kyohatsu.lb-product.com
END:VEVENT
END:VCALENDAR
