BEGIN:VCALENDAR
VERSION:2.0
PRODID:-//kyohatsu//JP
CALSCALE:GREGORIAN
BEGIN:VEVENT
DTSTART;VALUE=DATE:20260520
SUMMARY:暗夜に君と星をたどる
DESCRIPTION:木江 恭 双葉社
UID:9784575248937@kyohatsu.lb-product.com
END:VEVENT
END:VCALENDAR
