BEGIN:VCALENDAR
VERSION:2.0
PRODID:-//kyohatsu//JP
CALSCALE:GREGORIAN
BEGIN:VEVENT
DTSTART;VALUE=DATE:20260708
SUMMARY:風神雷神 特別盤
DESCRIPTION:木村徹二 日本クラウン(株)
UID:4988007330749@kyohatsu.lb-product.com
END:VEVENT
END:VCALENDAR
