BEGIN:VCALENDAR
VERSION:2.0
PRODID:-//kyohatsu//JP
CALSCALE:GREGORIAN
BEGIN:VEVENT
DTSTART;VALUE=DATE:20260522
SUMMARY:神々の微笑み
DESCRIPTION:木村彰洋 春陽堂書店
UID:9784394905189@kyohatsu.lb-product.com
END:VEVENT
END:VCALENDAR
