BEGIN:VCALENDAR
VERSION:2.0
PRODID:-//kyohatsu//JP
CALSCALE:GREGORIAN
BEGIN:VEVENT
DTSTART;VALUE=DATE:20260508
SUMMARY:老いを見つめて
DESCRIPTION:木村　達也 民事法研究会
UID:9784865567434@kyohatsu.lb-product.com
END:VEVENT
END:VCALENDAR
