BEGIN:VCALENDAR
VERSION:2.0
PRODID:-//kyohatsu//JP
CALSCALE:GREGORIAN
BEGIN:VEVENT
DTSTART;VALUE=DATE:20260528
SUMMARY:逆転監督　森保一
DESCRIPTION:木崎 伸也 文藝春秋
UID:9784163921051@kyohatsu.lb-product.com
END:VEVENT
END:VCALENDAR
