BEGIN:VCALENDAR
VERSION:2.0
PRODID:-//kyohatsu//JP
CALSCALE:GREGORIAN
BEGIN:VEVENT
DTSTART;VALUE=DATE:20260520
SUMMARY:風林火山のむすめ
DESCRIPTION:木下昌輝 双葉社
UID:9784575248906@kyohatsu.lb-product.com
END:VEVENT
END:VCALENDAR
