BEGIN:VCALENDAR
VERSION:2.0
PRODID:-//kyohatsu//JP
CALSCALE:GREGORIAN
BEGIN:VEVENT
DTSTART;VALUE=DATE:20260425
SUMMARY:木下径子作品集2 黄昏にたたずみて
DESCRIPTION:木下 径子 鳥影社
UID:9784867822135@kyohatsu.lb-product.com
END:VEVENT
BEGIN:VEVENT
DTSTART;VALUE=DATE:20260425
SUMMARY:木下径子作品集1 白き山々に向かいて
DESCRIPTION:木下 径子 鳥影社
UID:9784867822128@kyohatsu.lb-product.com
END:VEVENT
END:VCALENDAR
