BEGIN:VCALENDAR
VERSION:2.0
PRODID:-//kyohatsu//JP
CALSCALE:GREGORIAN
BEGIN:VEVENT
DTSTART;VALUE=DATE:20260525
SUMMARY:幻の大草原を追って
DESCRIPTION:朝格吉拉図 花伝社
UID:9784763422316@kyohatsu.lb-product.com
END:VEVENT
END:VCALENDAR
