BEGIN:VCALENDAR
VERSION:2.0
PRODID:-//kyohatsu//JP
CALSCALE:GREGORIAN
BEGIN:VEVENT
DTSTART;VALUE=DATE:20260526
SUMMARY:マンガでわかる介助する人される人　重度訪問介護の24時間365日
DESCRIPTION:朝来おかゆ 廣済堂出版
UID:9784331524459@kyohatsu.lb-product.com
END:VEVENT
END:VCALENDAR
