BEGIN:VCALENDAR
VERSION:2.0
PRODID:-//kyohatsu//JP
CALSCALE:GREGORIAN
BEGIN:VEVENT
DTSTART;VALUE=DATE:20260512
SUMMARY:がんばれ、おめでとう、ありがとう
DESCRIPTION:朝倉かすみ 幻冬舎
UID:9784344435568@kyohatsu.lb-product.com
END:VEVENT
END:VCALENDAR
