BEGIN:VCALENDAR
VERSION:2.0
PRODID:-//kyohatsu//JP
CALSCALE:GREGORIAN
BEGIN:VEVENT
DTSTART;VALUE=DATE:20260624
SUMMARY:タイトル未定
DESCRIPTION:服部浩子 (株)テイチクエンタテインメント
UID:4988004185250@kyohatsu.lb-product.com
END:VEVENT
END:VCALENDAR
