BEGIN:VCALENDAR
VERSION:2.0
PRODID:-//kyohatsu//JP
CALSCALE:GREGORIAN
BEGIN:VEVENT
DTSTART;VALUE=DATE:20260407
SUMMARY:介添えお海 心をこめてお世話します
DESCRIPTION:有馬 美季子 文藝春秋
UID:9784167924980@kyohatsu.lb-product.com
END:VEVENT
BEGIN:VEVENT
DTSTART;VALUE=DATE:20260525
SUMMARY:お葉の医心帖 ゆらめきの紫陽花（6）
DESCRIPTION:有馬　美季子 KADOKAWA
UID:9784041174128@kyohatsu.lb-product.com
END:VEVENT
END:VCALENDAR
