BEGIN:VCALENDAR
VERSION:2.0
PRODID:-//kyohatsu//JP
CALSCALE:GREGORIAN
BEGIN:VEVENT
DTSTART;VALUE=DATE:20260520
SUMMARY:生活の実践　「足るを知る」と世界が治る
DESCRIPTION:有太マン Type Slowly
UID:9784911273098@kyohatsu.lb-product.com
END:VEVENT
END:VCALENDAR
