BEGIN:VCALENDAR
VERSION:2.0
PRODID:-//kyohatsu//JP
CALSCALE:GREGORIAN
BEGIN:VEVENT
DTSTART;VALUE=DATE:20260610
SUMMARY:南の島で出会った等身大のキミに夢中!!
DESCRIPTION:月花めもり (株)ラインコミュニケーションズ
UID:4529971414266@kyohatsu.lb-product.com
END:VEVENT
END:VCALENDAR
