BEGIN:VCALENDAR
VERSION:2.0
PRODID:-//kyohatsu//JP
CALSCALE:GREGORIAN
BEGIN:VEVENT
DTSTART;VALUE=DATE:20260612
SUMMARY:神崎さん、ツノ出てますっ！？（1）
DESCRIPTION:月白 セブン 講談社
UID:9784065438350@kyohatsu.lb-product.com
END:VEVENT
END:VCALENDAR
